Package: recount3 Version: 1.9.0 Command: chmod a+r recount3 -R && F:\biocbuild\bbs-3.17-bioc\R\bin\R.exe CMD build --keep-empty-dirs --no-resave-data recount3 StartedAt: 2022-12-28 20:05:10 -0500 (Wed, 28 Dec 2022) EndedAt: 2022-12-28 20:07:19 -0500 (Wed, 28 Dec 2022) EllapsedTime: 129.4 seconds RetCode: 0 Status: OK PackageFile: recount3_1.9.0.tar.gz PackageFileSize: 542.4 KiB