Package: recount3 Version: 1.9.0 Command: rm -rf recount3.buildbin-libdir && mkdir recount3.buildbin-libdir && F:\biocbuild\bbs-3.17-bioc\R\bin\R.exe CMD INSTALL --build --library=recount3.buildbin-libdir recount3_1.9.0.tar.gz StartedAt: 2022-12-29 05:36:39 -0500 (Thu, 29 Dec 2022) EndedAt: 2022-12-29 05:37:12 -0500 (Thu, 29 Dec 2022) EllapsedTime: 33.1 seconds RetCode: 0 Status: OK PackageFile: recount3_1.9.0.zip PackageFileSize: 617.4 KiB