git_url: https://git.bioconductor.org/packages/proDA git_branch: master git_last_commit: 56615c9 git_last_commit_date: 2022-11-01 11:20:16 -0500 (Tue, 01 Nov 2022) Package: proDA Version: 1.13.0 Maintainer: Constantin Ahlmann-Eltze MaintainerEmail: artjom31415 at googlemail.com