Package: pipeFrame Version: 1.15.0 Command: F:\biocbuild\bbs-3.17-bioc\R\bin\R.exe CMD INSTALL pipeFrame StartedAt: 2022-12-28 15:57:28 -0500 (Wed, 28 Dec 2022) EndedAt: 2022-12-28 15:58:06 -0500 (Wed, 28 Dec 2022) EllapsedTime: 38.0 seconds RetCode: 0 Status: OK