Package: pipeFrame Version: 1.15.0 Command: F:\biocbuild\bbs-3.17-bioc\R\bin\R.exe CMD check --no-multiarch --install=check:pipeFrame.install-out.txt --library=F:\biocbuild\bbs-3.17-bioc\R\library --no-vignettes --timings pipeFrame_1.15.0.tar.gz StartedAt: 2022-12-29 02:19:56 -0500 (Thu, 29 Dec 2022) EndedAt: 2022-12-29 02:23:05 -0500 (Thu, 29 Dec 2022) EllapsedTime: 188.7 seconds RetCode: 0 Status: OK CheckDir: pipeFrame.Rcheck Warnings: 0