git_url: https://git.bioconductor.org/packages/pathRender git_branch: master git_last_commit: 2709b3b git_last_commit_date: 2022-11-01 10:40:23 -0500 (Tue, 01 Nov 2022) Package: pathRender Version: 1.67.0 Maintainer: Vince Carey MaintainerEmail: stvjc at channing.harvard.edu