Package: netSmooth Version: 1.19.0 Command: F:\biocbuild\bbs-3.17-bioc\R\bin\R.exe CMD check --no-multiarch --install=check:netSmooth.install-out.txt --library=F:\biocbuild\bbs-3.17-bioc\R\library --no-vignettes --timings netSmooth_1.19.0.tar.gz StartedAt: 2022-12-29 01:51:17 -0500 (Thu, 29 Dec 2022) EndedAt: 2022-12-29 01:57:48 -0500 (Thu, 29 Dec 2022) EllapsedTime: 390.5 seconds RetCode: 0 Status: OK CheckDir: netSmooth.Rcheck Warnings: 0