Package: netSmooth Version: 1.19.0 Command: rm -rf netSmooth.buildbin-libdir && mkdir netSmooth.buildbin-libdir && F:\biocbuild\bbs-3.17-bioc\R\bin\R.exe CMD INSTALL --build --library=netSmooth.buildbin-libdir netSmooth_1.19.0.tar.gz StartedAt: 2022-12-29 05:28:12 -0500 (Thu, 29 Dec 2022) EndedAt: 2022-12-29 05:28:57 -0500 (Thu, 29 Dec 2022) EllapsedTime: 44.7 seconds RetCode: 0 Status: OK PackageFile: netSmooth_1.19.0.zip PackageFileSize: 3.898 MiB