Package: nearBynding Version: 1.9.0 Command: F:\biocbuild\bbs-3.17-bioc\R\bin\R.exe CMD INSTALL nearBynding StartedAt: 2022-12-28 15:56:24 -0500 (Wed, 28 Dec 2022) EndedAt: 2022-12-28 15:57:04 -0500 (Wed, 28 Dec 2022) EllapsedTime: 39.9 seconds RetCode: 0 Status: OK