Package: nearBynding Version: 1.9.0 Command: chmod a+r nearBynding -R && F:\biocbuild\bbs-3.17-bioc\R\bin\R.exe CMD build --keep-empty-dirs --no-resave-data nearBynding StartedAt: 2022-12-28 19:19:51 -0500 (Wed, 28 Dec 2022) EndedAt: 2022-12-28 19:21:08 -0500 (Wed, 28 Dec 2022) EllapsedTime: 77.1 seconds RetCode: 0 Status: OK PackageFile: nearBynding_1.9.0.tar.gz PackageFileSize: 3.347 MiB