git_url: https://git.bioconductor.org/packages/miQC git_branch: master git_last_commit: 133d62e git_last_commit_date: 2022-11-01 11:24:10 -0500 (Tue, 01 Nov 2022) Package: miQC Version: 1.7.0 Maintainer: Ariel Hippen MaintainerEmail: ariel.hippen at gmail.com