| Back to Build/check report for BioC 3.17 |
|
This page was generated on 2023-01-02 09:00:36 -0500 (Mon, 02 Jan 2023).
| Hostname | OS | Arch (*) | R version | Installed pkgs |
|---|---|---|---|---|
| palomino5 | Windows Server 2022 Datacenter | x64 | R Under development (unstable) (2022-12-25 r83502 ucrt) -- "Unsuffered Consequences" | 4165 |
| Click on any hostname to see more info about the system (e.g. compilers) (*) as reported by 'uname -p', except on Windows and Mac OS X | ||||
|
To the developers/maintainers of the lisaClust package: Make sure to use the following settings in order to reproduce any error or warning you see on this page. |
| Package 1034/2158 | Hostname | OS / Arch | INSTALL | BUILD | CHECK | BUILD BIN | ||||||||
| lisaClust 1.7.1 (landing page) Ellis Patrick
| palomino5 | Windows Server 2022 Datacenter / x64 | OK | OK | WARNINGS | OK | ||||||||
| Package: lisaClust |
| Version: 1.7.1 |
| Command: rm -rf lisaClust.buildbin-libdir && mkdir lisaClust.buildbin-libdir && F:\biocbuild\bbs-3.17-bioc\R\bin\R.exe CMD INSTALL --build --library=lisaClust.buildbin-libdir lisaClust_1.7.1.tar.gz |
| StartedAt: 2022-12-29 05:19:39 -0500 (Thu, 29 Dec 2022) |
| EndedAt: 2022-12-29 05:20:17 -0500 (Thu, 29 Dec 2022) |
| EllapsedTime: 37.8 seconds |
| RetCode: 0 |
| Status: OK |
| PackageFile: lisaClust_1.7.1.zip |
| PackageFileSize: 904.4 KiB |
############################################################################## ############################################################################## ### ### Running command: ### ### rm -rf lisaClust.buildbin-libdir && mkdir lisaClust.buildbin-libdir && F:\biocbuild\bbs-3.17-bioc\R\bin\R.exe CMD INSTALL --build --library=lisaClust.buildbin-libdir lisaClust_1.7.1.tar.gz ### ############################################################################## ############################################################################## * installing *source* package 'lisaClust' ... ** using staged installation ** R ** inst ** byte-compile and prepare package for lazy loading ** help *** installing help indices ** building package indices ** installing vignettes ** testing if installed package can be loaded from temporary location ** testing if installed package can be loaded from final location ** testing if installed package keeps a record of temporary installation path * MD5 sums packaged installation of 'lisaClust' as lisaClust_1.7.1.zip * DONE (lisaClust)