Package: ibh Version: 1.47.0 Command: chmod a+r ibh -R && F:\biocbuild\bbs-3.17-bioc\R\bin\R.exe CMD build --keep-empty-dirs --no-resave-data ibh StartedAt: 2022-12-28 18:37:00 -0500 (Wed, 28 Dec 2022) EndedAt: 2022-12-28 18:37:10 -0500 (Wed, 28 Dec 2022) EllapsedTime: 10.3 seconds RetCode: 0 Status: OK PackageFile: ibh_1.47.0.tar.gz PackageFileSize: 128.2 KiB