Package: gpls Version: 1.71.0 Command: F:\biocbuild\bbs-3.17-bioc\R\bin\R.exe CMD check --no-multiarch --install=check:gpls.install-out.txt --library=F:\biocbuild\bbs-3.17-bioc\R\library --no-vignettes --timings gpls_1.71.0.tar.gz StartedAt: 2022-12-29 00:18:54 -0500 (Thu, 29 Dec 2022) EndedAt: 2022-12-29 00:19:22 -0500 (Thu, 29 Dec 2022) EllapsedTime: 28.0 seconds RetCode: 0 Status: WARNINGS CheckDir: gpls.Rcheck Warnings: 1