Package: gpls Version: 1.71.0 Command: chmod a+r gpls -R && F:\biocbuild\bbs-3.17-bioc\R\bin\R.exe CMD build --keep-empty-dirs --no-resave-data gpls StartedAt: 2022-12-28 18:27:01 -0500 (Wed, 28 Dec 2022) EndedAt: 2022-12-28 18:27:22 -0500 (Wed, 28 Dec 2022) EllapsedTime: 21.3 seconds RetCode: 0 Status: OK PackageFile: gpls_1.71.0.tar.gz PackageFileSize: 102.8 KiB