git_url: https://git.bioconductor.org/packages/gemini git_branch: master git_last_commit: 9437fe1 git_last_commit_date: 2022-11-01 11:20:09 -0500 (Tue, 01 Nov 2022) Package: gemini Version: 1.13.0 Maintainer: Sidharth Jain MaintainerEmail: sidharthsjain at gmail.com