Package: gcapc Version: 1.23.0 Command: F:\biocbuild\bbs-3.17-bioc\R\bin\R.exe CMD INSTALL gcapc StartedAt: 2022-12-28 15:50:46 -0500 (Wed, 28 Dec 2022) EndedAt: 2022-12-28 15:51:14 -0500 (Wed, 28 Dec 2022) EllapsedTime: 27.8 seconds RetCode: 0 Status: OK