Package: gcapc Version: 1.23.0 Command: rm -rf gcapc.buildbin-libdir && mkdir gcapc.buildbin-libdir && F:\biocbuild\bbs-3.17-bioc\R\bin\R.exe CMD INSTALL --build --library=gcapc.buildbin-libdir gcapc_1.23.0.tar.gz StartedAt: 2022-12-29 05:10:32 -0500 (Thu, 29 Dec 2022) EndedAt: 2022-12-29 05:11:01 -0500 (Thu, 29 Dec 2022) EllapsedTime: 29.1 seconds RetCode: 0 Status: OK PackageFile: gcapc_1.23.0.zip PackageFileSize: 3.682 MiB