git_url: https://git.bioconductor.org/packages/flowWorkspace git_branch: master git_last_commit: fb34e4c git_last_commit_date: 2022-11-01 11:05:55 -0500 (Tue, 01 Nov 2022) Package: flowWorkspace Version: 4.11.0 Maintainer: Greg Finak , Mike Jiang MaintainerEmail: mike at ozette.com