Package: flowCore Version: 2.11.0 Command: rm -rf flowCore.buildbin-libdir && mkdir flowCore.buildbin-libdir && F:\biocbuild\bbs-3.17-bioc\R\bin\R.exe CMD INSTALL --build --library=flowCore.buildbin-libdir flowCore_2.11.0.tar.gz StartedAt: 2022-12-29 05:09:26 -0500 (Thu, 29 Dec 2022) EndedAt: 2022-12-29 05:10:32 -0500 (Thu, 29 Dec 2022) EllapsedTime: 66.7 seconds RetCode: 0 Status: OK PackageFile: flowCore_2.11.0.zip PackageFileSize: 8.946 MiB