git_url: https://git.bioconductor.org/packages/fCCAC git_branch: master git_last_commit: 298d1a3 git_last_commit_date: 2022-11-01 11:14:49 -0500 (Tue, 01 Nov 2022) Package: fCCAC Version: 1.25.0 Maintainer: Pedro Madrigal MaintainerEmail: pmadrigal at ebi.ac.uk