Package: eegc Version: 1.25.0 Command: F:\biocbuild\bbs-3.17-bioc\R\bin\R.exe CMD INSTALL eegc StartedAt: 2022-12-28 16:08:33 -0500 (Wed, 28 Dec 2022) EndedAt: 2022-12-28 16:09:15 -0500 (Wed, 28 Dec 2022) EllapsedTime: 41.6 seconds RetCode: 0 Status: OK