Package: eegc Version: 1.25.0 Command: F:\biocbuild\bbs-3.17-bioc\R\bin\R.exe CMD check --no-multiarch --install=check:eegc.install-out.txt --library=F:\biocbuild\bbs-3.17-bioc\R\library --no-vignettes --timings eegc_1.25.0.tar.gz StartedAt: 2022-12-28 23:30:20 -0500 (Wed, 28 Dec 2022) EndedAt: 2022-12-28 23:36:34 -0500 (Wed, 28 Dec 2022) EllapsedTime: 373.9 seconds RetCode: 0 Status: WARNINGS CheckDir: eegc.Rcheck Warnings: 2