Package: eegc Version: 1.25.0 Command: chmod a+r eegc -R && F:\biocbuild\bbs-3.17-bioc\R\bin\R.exe CMD build --keep-empty-dirs --no-resave-data eegc StartedAt: 2022-12-28 17:45:32 -0500 (Wed, 28 Dec 2022) EndedAt: 2022-12-28 17:48:23 -0500 (Wed, 28 Dec 2022) EllapsedTime: 171.7 seconds RetCode: 0 Status: OK PackageFile: eegc_1.25.0.tar.gz PackageFileSize: 9.362 MiB