Package: edgeR Version: 3.41.2 Command: chmod a+r edgeR -R && F:\biocbuild\bbs-3.17-bioc\R\bin\R.exe CMD build --keep-empty-dirs --no-resave-data edgeR StartedAt: 2022-12-28 17:45:24 -0500 (Wed, 28 Dec 2022) EndedAt: 2022-12-28 17:47:05 -0500 (Wed, 28 Dec 2022) EllapsedTime: 101.6 seconds RetCode: 0 Status: OK PackageFile: edgeR_3.41.2.tar.gz PackageFileSize: 1.347 MiB