Package: edgeR Version: 3.41.2 Command: rm -rf edgeR.buildbin-libdir && mkdir edgeR.buildbin-libdir && F:\biocbuild\bbs-3.17-bioc\R\bin\R.exe CMD INSTALL --build --library=edgeR.buildbin-libdir edgeR_3.41.2.tar.gz StartedAt: 2022-12-29 05:06:15 -0500 (Thu, 29 Dec 2022) EndedAt: 2022-12-29 05:08:08 -0500 (Thu, 29 Dec 2022) EllapsedTime: 113.1 seconds RetCode: 0 Status: OK PackageFile: edgeR_3.41.2.zip PackageFileSize: 2.497 MiB