Package: cliProfiler Version: 1.5.0 Command: F:\biocbuild\bbs-3.17-bioc\R\bin\R.exe CMD INSTALL cliProfiler StartedAt: 2022-12-28 15:50:47 -0500 (Wed, 28 Dec 2022) EndedAt: 2022-12-28 15:51:20 -0500 (Wed, 28 Dec 2022) EllapsedTime: 32.5 seconds RetCode: 0 Status: OK