Package: cliProfiler Version: 1.5.0 Command: F:\biocbuild\bbs-3.17-bioc\R\bin\R.exe CMD check --no-multiarch --install=check:cliProfiler.install-out.txt --library=F:\biocbuild\bbs-3.17-bioc\R\library --no-vignettes --timings cliProfiler_1.5.0.tar.gz StartedAt: 2022-12-28 22:31:45 -0500 (Wed, 28 Dec 2022) EndedAt: 2022-12-28 22:35:02 -0500 (Wed, 28 Dec 2022) EllapsedTime: 197.6 seconds RetCode: 0 Status: OK CheckDir: cliProfiler.Rcheck Warnings: 0