Package: cliProfiler Version: 1.5.0 Command: chmod a+r cliProfiler -R && F:\biocbuild\bbs-3.17-bioc\R\bin\R.exe CMD build --keep-empty-dirs --no-resave-data cliProfiler StartedAt: 2022-12-28 17:16:35 -0500 (Wed, 28 Dec 2022) EndedAt: 2022-12-28 17:17:38 -0500 (Wed, 28 Dec 2022) EllapsedTime: 63.2 seconds RetCode: 0 Status: OK PackageFile: cliProfiler_1.5.0.tar.gz PackageFileSize: 581.7 KiB