git_url: https://git.bioconductor.org/packages/bgx git_branch: master git_last_commit: 6006e96 git_last_commit_date: 2022-11-01 11:03:27 -0500 (Tue, 01 Nov 2022) Package: bgx Version: 1.65.0 Maintainer: Ernest Turro MaintainerEmail: et341 at cam.ac.uk