git_url: https://git.bioconductor.org/packages/agilp git_branch: master git_last_commit: f4705dd git_last_commit_date: 2022-11-01 11:07:27 -0500 (Tue, 01 Nov 2022) Package: agilp Version: 3.31.0 Maintainer: Benny Chain MaintainerEmail: b.chain at ucl.ac.uk