Package: XVector Version: 0.39.0 Command: F:\biocbuild\bbs-3.17-bioc\R\bin\R.exe CMD INSTALL XVector StartedAt: 2022-12-28 15:32:38 -0500 (Wed, 28 Dec 2022) EndedAt: 2022-12-28 15:33:15 -0500 (Wed, 28 Dec 2022) EllapsedTime: 37.0 seconds RetCode: 0 Status: OK