Package: XVector Version: 0.39.0 Command: F:\biocbuild\bbs-3.17-bioc\R\bin\R.exe CMD check --no-multiarch --install=check:XVector.install-out.txt --library=F:\biocbuild\bbs-3.17-bioc\R\library --no-vignettes --timings XVector_0.39.0.tar.gz StartedAt: 2022-12-29 04:35:47 -0500 (Thu, 29 Dec 2022) EndedAt: 2022-12-29 04:36:56 -0500 (Thu, 29 Dec 2022) EllapsedTime: 69.2 seconds RetCode: 0 Status: WARNINGS CheckDir: XVector.Rcheck Warnings: 3