Package: XVector Version: 0.39.0 Command: chmod a+r XVector -R && F:\biocbuild\bbs-3.17-bioc\R\bin\R.exe CMD build --keep-empty-dirs --no-resave-data XVector StartedAt: 2022-12-28 21:13:49 -0500 (Wed, 28 Dec 2022) EndedAt: 2022-12-28 21:13:52 -0500 (Wed, 28 Dec 2022) EllapsedTime: 3.0 seconds RetCode: 0 Status: OK PackageFile: XVector_0.39.0.tar.gz PackageFileSize: 66.22 KiB