Package: XVector Version: 0.39.0 Command: rm -rf XVector.buildbin-libdir && mkdir XVector.buildbin-libdir && F:\biocbuild\bbs-3.17-bioc\R\bin\R.exe CMD INSTALL --build --library=XVector.buildbin-libdir XVector_0.39.0.tar.gz StartedAt: 2022-12-29 05:54:52 -0500 (Thu, 29 Dec 2022) EndedAt: 2022-12-29 05:55:27 -0500 (Thu, 29 Dec 2022) EllapsedTime: 34.4 seconds RetCode: 0 Status: OK PackageFile: XVector_0.39.0.zip PackageFileSize: 621.3 KiB