git_url: https://git.bioconductor.org/packages/SMITE git_branch: master git_last_commit: 920bda8 git_last_commit_date: 2022-11-01 11:12:52 -0500 (Tue, 01 Nov 2022) Package: SMITE Version: 1.27.0 Maintainer: Neil Ari Wijetunga MaintainerEmail: nawijet at gmail.com