Package: SMAD Version: 1.15.1 Command: chmod a+r SMAD -R && F:\biocbuild\bbs-3.17-bioc\R\bin\R.exe CMD build --keep-empty-dirs --no-resave-data SMAD StartedAt: 2022-12-28 20:41:54 -0500 (Wed, 28 Dec 2022) EndedAt: 2022-12-28 20:42:21 -0500 (Wed, 28 Dec 2022) EllapsedTime: 26.7 seconds RetCode: 0 Status: OK PackageFile: SMAD_1.15.1.tar.gz PackageFileSize: 363.5 KiB