git_url: https://git.bioconductor.org/packages/SCANVIS git_branch: master git_last_commit: b207eb8 git_last_commit_date: 2022-11-01 11:20:12 -0500 (Tue, 01 Nov 2022) Package: SCANVIS Version: 1.13.0 Maintainer: Phaedra Agius MaintainerEmail: pagius at nygenome.org