git_url: https://git.bioconductor.org/packages/RTNduals git_branch: master git_last_commit: 68e74d8 git_last_commit_date: 2022-11-01 11:15:09 -0500 (Tue, 01 Nov 2022) Package: RTNduals Version: 1.23.0 Maintainer: Mauro Castro , Clarice Groeneveld MaintainerEmail: clari.groeneveld at gmail.com