Package: RTCA Version: 1.51.0 Command: F:\biocbuild\bbs-3.17-bioc\R\bin\R.exe CMD check --no-multiarch --install=check:RTCA.install-out.txt --library=F:\biocbuild\bbs-3.17-bioc\R\library --no-vignettes --timings RTCA_1.51.0.tar.gz StartedAt: 2022-12-29 03:06:05 -0500 (Thu, 29 Dec 2022) EndedAt: 2022-12-29 03:06:41 -0500 (Thu, 29 Dec 2022) EllapsedTime: 36.5 seconds RetCode: 0 Status: WARNINGS CheckDir: RTCA.Rcheck Warnings: 1