Package: RTCA Version: 1.51.0 Command: chmod a+r RTCA -R && F:\biocbuild\bbs-3.17-bioc\R\bin\R.exe CMD build --keep-empty-dirs --no-resave-data RTCA StartedAt: 2022-12-28 20:18:00 -0500 (Wed, 28 Dec 2022) EndedAt: 2022-12-28 20:18:20 -0500 (Wed, 28 Dec 2022) EllapsedTime: 19.5 seconds RetCode: 0 Status: OK PackageFile: RTCA_1.51.0.tar.gz PackageFileSize: 336.5 KiB