Package: RProtoBufLib Version: 2.11.0 Command: chmod a+r RProtoBufLib -R && F:\biocbuild\bbs-3.17-bioc\R\bin\R.exe CMD build --keep-empty-dirs --no-resave-data RProtoBufLib StartedAt: 2022-12-28 20:16:40 -0500 (Wed, 28 Dec 2022) EndedAt: 2022-12-28 20:17:15 -0500 (Wed, 28 Dec 2022) EllapsedTime: 34.7 seconds RetCode: 0 Status: OK PackageFile: RProtoBufLib_2.11.0.tar.gz PackageFileSize: 21.07 MiB