Package: RJMCMCNucleosomes Version: 1.23.0 Command: F:\biocbuild\bbs-3.17-bioc\R\bin\R.exe CMD check --no-multiarch --install=check:RJMCMCNucleosomes.install-out.txt --library=F:\biocbuild\bbs-3.17-bioc\R\library --no-vignettes --timings RJMCMCNucleosomes_1.23.0.tar.gz StartedAt: 2022-12-29 02:55:20 -0500 (Thu, 29 Dec 2022) EndedAt: 2022-12-29 02:58:48 -0500 (Thu, 29 Dec 2022) EllapsedTime: 208.0 seconds RetCode: 0 Status: OK CheckDir: RJMCMCNucleosomes.Rcheck Warnings: 0