Package: RJMCMCNucleosomes Version: 1.23.0 Command: chmod a+r RJMCMCNucleosomes -R && F:\biocbuild\bbs-3.17-bioc\R\bin\R.exe CMD build --keep-empty-dirs --no-resave-data RJMCMCNucleosomes StartedAt: 2022-12-28 20:11:22 -0500 (Wed, 28 Dec 2022) EndedAt: 2022-12-28 20:12:50 -0500 (Wed, 28 Dec 2022) EllapsedTime: 88.1 seconds RetCode: 0 Status: OK PackageFile: RJMCMCNucleosomes_1.23.0.tar.gz PackageFileSize: 561.8 KiB