Package: RJMCMCNucleosomes Version: 1.23.0 Command: rm -rf RJMCMCNucleosomes.buildbin-libdir && mkdir RJMCMCNucleosomes.buildbin-libdir && F:\biocbuild\bbs-3.17-bioc\R\bin\R.exe CMD INSTALL --build --library=RJMCMCNucleosomes.buildbin-libdir RJMCMCNucleosomes_1.23.0.tar.gz StartedAt: 2022-12-29 05:38:52 -0500 (Thu, 29 Dec 2022) EndedAt: 2022-12-29 05:39:51 -0500 (Thu, 29 Dec 2022) EllapsedTime: 59.8 seconds RetCode: 0 Status: OK PackageFile: RJMCMCNucleosomes_1.23.0.zip PackageFileSize: 1.042 MiB