Package: PWMEnrich Version: 4.35.0 Command: F:\biocbuild\bbs-3.17-bioc\R\bin\R.exe CMD INSTALL PWMEnrich StartedAt: 2022-12-28 15:36:18 -0500 (Wed, 28 Dec 2022) EndedAt: 2022-12-28 15:36:42 -0500 (Wed, 28 Dec 2022) EllapsedTime: 24.4 seconds RetCode: 0 Status: OK