Package: PWMEnrich Version: 4.35.0 Command: F:\biocbuild\bbs-3.17-bioc\R\bin\R.exe CMD check --no-multiarch --install=check:PWMEnrich.install-out.txt --library=F:\biocbuild\bbs-3.17-bioc\R\library --no-vignettes --timings PWMEnrich_4.35.0.tar.gz StartedAt: 2022-12-29 02:31:10 -0500 (Thu, 29 Dec 2022) EndedAt: 2022-12-29 02:32:41 -0500 (Thu, 29 Dec 2022) EllapsedTime: 91.7 seconds RetCode: 0 Status: OK CheckDir: PWMEnrich.Rcheck Warnings: 0