Package: PWMEnrich Version: 4.35.0 Command: rm -rf PWMEnrich.buildbin-libdir && mkdir PWMEnrich.buildbin-libdir && F:\biocbuild\bbs-3.17-bioc\R\bin\R.exe CMD INSTALL --build --library=PWMEnrich.buildbin-libdir PWMEnrich_4.35.0.tar.gz StartedAt: 2022-12-29 05:34:08 -0500 (Thu, 29 Dec 2022) EndedAt: 2022-12-29 05:34:35 -0500 (Thu, 29 Dec 2022) EllapsedTime: 27.2 seconds RetCode: 0 Status: OK PackageFile: PWMEnrich_4.35.0.zip PackageFileSize: 1.989 MiB