Package: POMA Version: 1.9.0 Command: F:\biocbuild\bbs-3.17-bioc\R\bin\R.exe CMD INSTALL POMA StartedAt: 2022-12-28 16:18:29 -0500 (Wed, 28 Dec 2022) EndedAt: 2022-12-28 16:18:38 -0500 (Wed, 28 Dec 2022) EllapsedTime: 9.0 seconds RetCode: 0 Status: OK