git_url: https://git.bioconductor.org/packages/NeuCA git_branch: master git_last_commit: 80a351e git_last_commit_date: 2022-11-01 11:25:19 -0500 (Tue, 01 Nov 2022) Package: NeuCA Version: 1.5.0 Maintainer: Hao Feng MaintainerEmail: hxf155 at case.edu